Workbook

Sheet tabula-PC1084-RHD-SB-EN-ME-EV-1
A3: APPENDIX A – PRE-DREDGE SAMPLE RESULTS
D6: Units | E6: % M/M | F6: % (at 0.5phi intervals) | G6: % (at 0.5phi intervals) | H6: % (at 0.5phi intervals) | I6: % (at 0.5phi intervals) | J6: % (at 0.5phi intervals)
D7: Method No | E7: WSLM59* | F7: *SUB_01 | G7: *SUB_01 | H7: *SUB_01 | I7: *SUB_01 | J7: *SUB_01
D8: Accreditation | E8: UKAS/MMO | F8: MMO | G8: MMO | H8: MMO | I8: MMO | J8: MMO
E9: Total Organic Carbon | F9: 45mm | G9: 31.5mm | H9: 22.4mm | I9: 16mm | J9: 11.2mm
B10: Client Reference: | C10: SOCOTEC Ref: | D10: Matrix | E10: − | F10: -5.5 | G10: -5 | H10: -4.5 | I10: -4 | J10: -3.5
A11: SS01 | C11: MAR01534.001 | D11: Sediment | E11: 2.77 | F11: 0 | G11: 9.32 | H11: 0 | I11: 0 | J11: 0.9
A12: SS02 | C12: MAR01534.002 | D12: Sediment | E12: 4.88 | F12: 0 | G12: 0 | H12: 0 | I12: 0.31 | J12: 0.55
A13: SS03 | C13: MAR01534.003 | D13: Sediment | E13: 4.72 | F13: 0 | G13: 0 | H13: 0 | I13: 0 | J13: 0
A14: SS04 | C14: MAR01534.004 | D14: Sediment | E14: 4.8 | F14: 0 | G14: 0 | H14: 0 | I14: 0 | J14: 0
A15: SS05 | C15: MAR01534.005 | D15: Sediment | E15: 4.74 | F15: 0 | G15: 0 | H15: 0 | I15: 0 | J15: 0
A16: SS06 | C16: MAR01534.006 | D16: Sediment | E16: 4.76 | F16: 0 | G16: 0 | H16: 0 | I16: 0 | J16: 0.15
D17: Units | E17: % (at 0.5phi intervals) | F17: % (at 0.5phi intervals) | G17: % (at 0.5phi intervals) | H17: % (at 0.5phi intervals) | I17: % (at 0.5phi intervals) | J17: % (at 0.5phi intervals)
D18: Method No | E18: *SUB_01 | F18: *SUB_01 | G18: *SUB_01 | H18: *SUB_01 | I18: *SUB_01 | J18: *SUB_01
D19: Accreditation | E19: MMO | F19: MMO | G19: MMO | H19: MMO | I19: MMO | J19: MMO
E20: 8mm | F20: 5.6mm | G20: 4mm | H20: 2.8mm | I20: 2mm | J20: 1.4mm
B21: Client Reference: | C21: SOCOTEC Ref: | D21: Matrix | E21: -3 | F21: -2.5 | G21: -2 | H21: -1.5 | I21: -1 | J21: -0.5
A22: SS01 | C22: MAR01534.001 | D22: Sediment | E22: 0.85 | F22: 1.42 | G22: 1.63 | H22: 2.03 | I22: 1.8 | J22: 1.88
A23: SS02 | C23: MAR01534.002 | D23: Sediment | E23: 0.1 | F23: 0.28 | G23: 0.4 | H23: 0.08 | I23: 0.06 | J23: 0.06
A24: SS03 | C24: MAR01534.003 | D24: Sediment | E24: 0 | F24: 0 | G24: 0 | H24: 0 | I24: 0 | J24: 0
A25: SS04 | C25: MAR01534.004 | D25: Sediment | E25: 0 | F25: 0 | G25: 0 | H25: 0 | I25: 0 | J25: 0
A26: SS05 | C26: MAR01534.005 | D26: Sediment | E26: 0 | F26: 0.07 | G26: 0.03 | H26: 0.11 | I26: 0.08 | J26: 0.07
A27: SS06 | C27: MAR01534.006 | D27: Sediment | E27: 0 | F27: 0.13 | G27: 0.07 | H27: 0.03 | I27: 0 | J27: 0.01
D28: Units | E28: % (at 0.5phi intervals) | F28: % (at 0.5phi intervals) | G28: % (at 0.5phi intervals) | H28: % (at 0.5phi intervals) | I28: % (at 0.5phi intervals) | J28: % (at 0.5phi intervals)
D29: Method No | E29: *SUB_01 | F29: *SUB_01 | G29: *SUB_01 | H29: *SUB_01 | I29: *SUB_01 | J29: *SUB_01
D30: Accreditation | E30: MMO | F30: MMO | G30: MMO | H30: MMO | I30: MMO | J30: MMO
E31: 1mm | F31: 707μm | G31: 500μm | H31: 353.6μm | I31: 250μm | J31: 176.8μm
B32: Client Reference: | C32: SOCOTEC Ref: | D32: Matrix | E32: 0 | F32: 0.5 | G32: 1 | H32: 1.5 | I32: 2 | J32: 2.5
A33: SS01 | C33: MAR01534.001 | D33: Sediment | E33: 1.58 | F33: 0 | G33: 0 | H33: 0 | I33: 1.12 | J33: 5.21
A34: SS02 | C34: MAR01534.002 | D34: Sediment | E34: 0.08 | F34: 0 | G34: 0 | H34: 0 | I34: 0.09 | J34: 1.28
A35: SS03 | C35: MAR01534.003 | D35: Sediment | E35: 0 | F35: 0 | G35: 0 | H35: 0 | I35: 0.2 | J35: 1.37
A36: SS04 | C36: MAR01534.004 | D36: Sediment | E36: 0 | F36: 0 | G36: 0 | H36: 0 | I36: 0 | J36: 0.31
A37: SS05 | C37: MAR01534.005 | D37: Sediment | E37: 0.02 | F37: 0 | G37: 0 | H37: 0 | I37: 0 | J37: 0
A38: SS06 | C38: MAR01534.006 | D38: Sediment | E38: 0.03 | F38: 0 | G38: 0 | H38: 0 | I38: 0 | J38: 0
D39: Units | E39: % (at 0.5phi intervals) | F39: % (at 0.5phi intervals) | G39: % (at 0.5phi intervals) | H39: % (at 0.5phi intervals) | I39: % (at 0.5phi intervals) | J39: % (at 0.5phi intervals)
D40: Method No | E40: *SUB_01 | F40: *SUB_01 | G40: *SUB_01 | H40: *SUB_01 | I40: *SUB_01 | J40: *SUB_01
D41: Accreditation | E41: MMO | F41: MMO | G41: MMO | H41: MMO | I41: MMO | J41: MMO
E42: 125μm | F42: 88.39μm | G42: 63μm | H42: 44.2μm | I42: 31.3μm | J42: 22.1μm
B43: Client Reference: | C43: SOCOTEC Ref: | D43: Matrix | E43: 3 | F43: 3.5 | G43: 4 | H43: 4.5 | I43: 5 | J43: 5.5
A44: SS01 | C44: MAR01534.001 | D44: Sediment | E44: 2.71 | F44: 4.61 | G44: 5 | H44: 4.7 | I44: 4.86 | J44: 5.66
...

Sheet Pre-dredge
A3: APPENDIX A – PRE-DREDGE SAMPLE RESULTS
D6: Units | E6: % M/M | F6: % (at 0.5phi intervals) | G6: % (at 0.5phi intervals) | H6: % (at 0.5phi intervals) | I6: % (at 0.5phi intervals) | J6: % (at 0.5phi intervals)
D7: Method No | E7: WSLM59* | F7: *SUB_01 | G7: *SUB_01 | H7: *SUB_01 | I7: *SUB_01 | J7: *SUB_01
D8: Accreditation | E8: UKAS/MMO | F8: MMO | G8: MMO | H8: MMO | I8: MMO | J8: MMO
E9: Total Organic Carbon | F9: 45mm | G9: 31.5mm | H9: 22.4mm | I9: 16mm | J9: 11.2mm
B10: Client Reference: | C10: SOCOTEC Ref: | D10: Matrix | E10: − | F10: -5.5 | G10: -5 | H10: -4.5 | I10: -4 | J10: -3.5
A11: SS01 | C11: MAR01534.001 | D11: Sediment | E11: 2.77 | F11: 0 | G11: 9.32 | H11: 0 | I11: 0 | J11: 0.9
A12: SS02 | C12: MAR01534.002 | D12: Sediment | E12: 4.88 | F12: 0 | G12: 0 | H12: 0 | I12: 0.31 | J12: 0.55
A13: SS03 | C13: MAR01534.003 | D13: Sediment | E13: 4.72 | F13: 0 | G13: 0 | H13: 0 | I13: 0 | J13: 0
A14: SS04 | C14: MAR01534.004 | D14: Sediment | E14: 4.8 | F14: 0 | G14: 0 | H14: 0 | I14: 0 | J14: 0
A15: SS05 | C15: MAR01534.005 | D15: Sediment | E15: 4.74 | F15: 0 | G15: 0 | H15: 0 | I15: 0 | J15: 0
A16: SS06 | C16: MAR01534.006 | D16: Sediment | E16: 4.76 | F16: 0 | G16: 0 | H16: 0 | I16: 0 | J16: 0.15
D17: Units | E17: % (at 0.5phi intervals) | F17: % (at 0.5phi intervals) | G17: % (at 0.5phi intervals) | H17: % (at 0.5phi intervals) | I17: % (at 0.5phi intervals) | J17: % (at 0.5phi intervals)
D18: Method No | E18: *SUB_01 | F18: *SUB_01 | G18: *SUB_01 | H18: *SUB_01 | I18: *SUB_01 | J18: *SUB_01
D19: Accreditation | E19: MMO | F19: MMO | G19: MMO | H19: MMO | I19: MMO | J19: MMO
E20: 8mm | F20: 5.6mm | G20: 4mm | H20: 2.8mm | I20: 2mm | J20: 1.4mm
B21: Client Reference: | C21: SOCOTEC Ref: | D21: Matrix | E21: -3 | F21: -2.5 | G21: -2 | H21: -1.5 | I21: -1 | J21: -0.5
A22: SS01 | C22: MAR01534.001 | D22: Sediment | E22: 0.85 | F22: 1.42 | G22: 1.63 | H22: 2.03 | I22: 1.8 | J22: 1.88
A23: SS02 | C23: MAR01534.002 | D23: Sediment | E23: 0.1 | F23: 0.28 | G23: 0.4 | H23: 0.08 | I23: 0.06 | J23: 0.06
A24: SS03 | C24: MAR01534.003 | D24: Sediment | E24: 0 | F24: 0 | G24: 0 | H24: 0 | I24: 0 | J24: 0
A25: SS04 | C25: MAR01534.004 | D25: Sediment | E25: 0 | F25: 0 | G25: 0 | H25: 0 | I25: 0 | J25: 0
A26: SS05 | C26: MAR01534.005 | D26: Sediment | E26: 0 | F26: 0.07 | G26: 0.03 | H26: 0.11 | I26: 0.08 | J26: 0.07
A27: SS06 | C27: MAR01534.006 | D27: Sediment | E27: 0 | F27: 0.13 | G27: 0.07 | H27: 0.03 | I27: 0 | J27: 0.01
D28: Units | E28: % (at 0.5phi intervals) | F28: % (at 0.5phi intervals) | G28: % (at 0.5phi intervals) | H28: % (at 0.5phi intervals) | I28: % (at 0.5phi intervals) | J28: % (at 0.5phi intervals)
D29: Method No | E29: *SUB_01 | F29: *SUB_01 | G29: *SUB_01 | H29: *SUB_01 | I29: *SUB_01 | J29: *SUB_01
D30: Accreditation | E30: MMO | F30: MMO | G30: MMO | H30: MMO | I30: MMO | J30: MMO
E31: 1mm | F31: 707μm | G31: 500μm | H31: 353.6μm | I31: 250μm | J31: 176.8μm
B32: Client Reference: | C32: SOCOTEC Ref: | D32: Matrix | E32: 0 | F32: 0.5 | G32: 1 | H32: 1.5 | I32: 2 | J32: 2.5
A33: SS01 | C33: MAR01534.001 | D33: Sediment | E33: 1.58 | F33: 0 | G33: 0 | H33: 0 | I33: 1.12 | J33: 5.21
A34: SS02 | C34: MAR01534.002 | D34: Sediment | E34: 0.08 | F34: 0 | G34: 0 | H34: 0 | I34: 0.09 | J34: 1.28
A35: SS03 | C35: MAR01534.003 | D35: Sediment | E35: 0 | F35: 0 | G35: 0 | H35: 0 | I35: 0.2 | J35: 1.37
A36: SS04 | C36: MAR01534.004 | D36: Sediment | E36: 0 | F36: 0 | G36: 0 | H36: 0 | I36: 0 | J36: 0.31
A37: SS05 | C37: MAR01534.005 | D37: Sediment | E37: 0.02 | F37: 0 | G37: 0 | H37: 0 | I37: 0 | J37: 0
A38: SS06 | C38: MAR01534.006 | D38: Sediment | E38: 0.03 | F38: 0 | G38: 0 | H38: 0 | I38: 0 | J38: 0
D39: Units | E39: % (at 0.5phi intervals) | F39: % (at 0.5phi intervals) | G39: % (at 0.5phi intervals) | H39: % (at 0.5phi intervals) | I39: % (at 0.5phi intervals) | J39: % (at 0.5phi intervals)
D40: Method No | E40: *SUB_01 | F40: *SUB_01 | G40: *SUB_01 | H40: *SUB_01 | I40: *SUB_01 | J40: *SUB_01
D41: Accreditation | E41: MMO | F41: MMO | G41: MMO | H41: MMO | I41: MMO | J41: MMO
E42: 125μm | F42: 88.39μm | G42: 63μm | H42: 44.2μm | I42: 31.3μm | J42: 22.1μm
B43: Client Reference: | C43: SOCOTEC Ref: | D43: Matrix | E43: 3 | F43: 3.5 | G43: 4 | H43: 4.5 | I43: 5 | J43: 5.5
A44: SS01 | C44: MAR01534.001 | D44: Sediment | E44: 2.71 | F44: 4.61 | G44: 5 | H44: 4.7 | I44: 4.86 | J44: 5.66
...

Sheet Post-dredge
A3: APPENDIX B – POST-DREDGE SAMPLE RESULTS
D6: Units | E6: % M/M | F6: % (at 0.5phi intervals) | G6: % (at 0.5phi intervals) | H6: % (at 0.5phi intervals) | I6: % (at 0.5phi intervals) | J6: % (at 0.5phi intervals) | K6: % (at 0.5phi intervals)
D7: Method No | E7: WSLM59* | F7: *SUB_01 | G7: *SUB_01 | H7: *SUB_01 | I7: *SUB_01 | J7: *SUB_01 | K7: *SUB_01
D8: Accreditation | E8: UKAS/MMO | F8: MMO | G8: MMO | H8: MMO | I8: MMO | J8: MMO | K8: MMO
E9: Total Organic Carbon | F9: 45mm | G9: 31.5mm | H9: 22.4mm | I9: 16mm | J9: 11.2mm | K9: 8mm
B10: Client Reference: | C10: SOCOTEC Ref: | D10: Matrix | E10: − | F10: -5.5 | G10: -5 | H10: -4.5 | I10: -4 | J10: -3.5 | K10: -3
A11: SS01 | C11: MAR01640.001 | D11: Sediment | E11: 5.34 | F11: 0 | G11: 0 | H11: 0 | I11: 0 | J11: 0 | K11: 0
A12: SS02 | C12: MAR01640.002 | D12: Sediment | E12: 5.56 | F12: 0 | G12: 0 | H12: 0 | I12: 0 | J12: 0 | K12: 0
A13: SS03 | C13: MAR01640.003 | D13: Sediment | E13: 5.62 | F13: 0 | G13: 0 | H13: 0 | I13: 0 | J13: 0 | K13: 0
A14: SS04 | C14: MAR01640.004 | D14: Sediment | E14: 5.52 | F14: 0 | G14: 0 | H14: 0 | I14: 0 | J14: 0 | K14: 0
A15: SS05 | C15: MAR01640.005 | D15: Sediment | E15: 5.41 | F15: 0 | G15: 0.02 | H15: 0 | I15: 0.02 | J15: 0 | K15: 0.19
A16: SS06 | C16: MAR01640.006 | D16: Sediment | E16: 4.03 | F16: 0 | G16: 0 | H16: 0 | I16: 0 | J16: 0 | K16: 0.02
D17: Units | E17: % (at 0.5phi intervals) | F17: % (at 0.5phi intervals) | G17: % (at 0.5phi intervals) | H17: % (at 0.5phi intervals) | I17: % (at 0.5phi intervals) | J17: % (at 0.5phi intervals) | K17: % (at 0.5phi intervals)
D18: Method No | E18: *SUB_01 | F18: *SUB_01 | G18: *SUB_01 | H18: *SUB_01 | I18: *SUB_01 | J18: *SUB_01 | K18: *SUB_01
D19: Accreditation | E19: MMO | F19: MMO | G19: MMO | H19: MMO | I19: MMO | J19: MMO | K19: MMO
E20: 5.6mm | F20: 4mm | G20: 2.8mm | H20: 2mm | I20: 1.4mm | J20: 1mm | K20: 707μm
B21: Client Reference: | C21: SOCOTEC Ref: | D21: Matrix | E21: -2.5 | F21: -2 | G21: -1.5 | H21: -1 | I21: -0.5 | J21: 0 | K21: 0.5
A22: SS01 | C22: MAR01640.001 | D22: Sediment | E22: 0 | F22: 0 | G22: 0 | H22: 0 | I22: 0 | J22: 0 | K22: 0
A23: SS02 | C23: MAR01640.002 | D23: Sediment | E23: 0 | F23: 0 | G23: 0 | H23: 0 | I23: 0 | J23: 0 | K23: 0.02
A24: SS03 | C24: MAR01640.003 | D24: Sediment | E24: 0 | F24: 0 | G24: 0 | H24: 0 | I24: 0 | J24: 0 | K24: 0
A25: SS04 | C25: MAR01640.004 | D25: Sediment | E25: 0 | F25: 0 | G25: 0 | H25: 0 | I25: 0 | J25: 0 | K25: 0
A26: SS05 | C26: MAR01640.005 | D26: Sediment | E26: 0.16 | F26: 0 | G26: 0 | H26: 0 | I26: 0 | J26: 0 | K26: 0
A27: SS06 | C27: MAR01640.006 | D27: Sediment | E27: 0.05 | F27: 0.12 | G27: 0.07 | H27: 0.04 | I27: 0.08 | J27: 0.18 | K27: 2.29
D28: Units | E28: % (at 0.5phi intervals) | F28: % (at 0.5phi intervals) | G28: % (at 0.5phi intervals) | H28: % (at 0.5phi intervals) | I28: % (at 0.5phi intervals) | J28: % (at 0.5phi intervals) | K28: % (at 0.5phi intervals)
D29: Method No | E29: *SUB_01 | F29: *SUB_01 | G29: *SUB_01 | H29: *SUB_01 | I29: *SUB_01 | J29: *SUB_01 | K29: *SUB_01
D30: Accreditation | E30: MMO | F30: MMO | G30: MMO | H30: MMO | I30: MMO | J30: MMO | K30: MMO
E31: 500μm | F31: 353.6μm | G31: 250μm | H31: 176.8μm | I31: 125μm | J31: 88.39μm | K31: 63μm
B32: Client Reference: | C32: SOCOTEC Ref: | D32: Matrix | E32: 1 | F32: 1.5 | G32: 2 | H32: 2.5 | I32: 3 | J32: 3.5 | K32: 4
A33: SS01 | C33: MAR01640.001 | D33: Sediment | E33: 0.5 | F33: 1.72 | G33: 0.49 | H33: 2.38 | I33: 7.95 | J33: 2.76 | K33: 6.12
A34: SS02 | C34: MAR01640.002 | D34: Sediment | E34: 1.37 | F34: 4.42 | G34: 3.17 | H34: 4.56 | I34: 8.7 | J34: 3.28 | K34: 3.86
A35: SS03 | C35: MAR01640.003 | D35: Sediment | E35: 0 | F35: 0 | G35: 0 | H35: 2.02 | I35: 7.26 | J35: 2.49 | K35: 6.84
A36: SS04 | C36: MAR01640.004 | D36: Sediment | E36: 0 | F36: 0 | G36: 0 | H36: 1.19 | I36: 5.04 | J36: 0.89 | K36: 4.06
A37: SS05 | C37: MAR01640.005 | D37: Sediment | E37: 0 | F37: 0 | G37: 0 | H37: 0.45 | I37: 4.1 | J37: 1.29 | K37: 2.09
A38: SS06 | C38: MAR01640.006 | D38: Sediment | E38: 1.85 | F38: 1.95 | G38: 8.08 | H38: 15.8 | I38: 12.65 | J38: 1.62 | K38: 2.81
D39: Units | E39: % (at 0.5phi intervals) | F39: % (at 0.5phi intervals) | G39: % (at 0.5phi intervals) | H39: % (at 0.5phi intervals) | I39: % (at 0.5phi intervals) | J39: % (at 0.5phi intervals) | K39: % (at 0.5phi intervals)
D40: Method No | E40: *SUB_01 | F40: *SUB_01 | G40: *SUB_01 | H40: *SUB_01 | I40: *SUB_01 | J40: *SUB_01 | K40: *SUB_01
D41: Accreditation | E41: MMO | F41: MMO | G41: MMO | H41: MMO | I41: MMO | J41: MMO | K41: MMO
E42: 44.2μm | F42: 31.3μm | G42: 22.1μm | H42: 15.6μm | I42: 11μm | J42: 7.8μm | K42: 5.5μm
B43: Client Reference: | C43: SOCOTEC Ref: | D43: Matrix | E43: 4.5 | F43: 5 | G43: 5.5 | H43: 6 | I43: 6.5 | J43: 7 | K43: 7.5
A44: SS01 | C44: MAR01640.001 | D44: Sediment | E44: 8.6 | F44: 7.61 | G44: 8.7 | H44: 8.13 | I44: 7.49 | J44: 7.81 | K44: 7.7
...

Sheet Post-remedial-dredge
A3: APPENDIX C – POST REMEDIAL DREDGE SAMPLE RESULTS
D6: Units | E6: % M/M | F6: % (at 0.5phi intervals) | G6: % (at 0.5phi intervals) | H6: % (at 0.5phi intervals) | I6: % (at 0.5phi intervals) | J6: % (at 0.5phi intervals) | K6: % (at 0.5phi intervals)
D7: Method No | E7: WSLM59* | F7: *SUB_01 | G7: *SUB_01 | H7: *SUB_01 | I7: *SUB_01 | J7: *SUB_01 | K7: *SUB_01
D8: Accreditation | E8: UKAS/MMO | F8: MMO | G8: MMO | H8: MMO | I8: MMO | J8: MMO | K8: MMO
E9: Total Organic Carbon | F9: 45mm | G9: 31.5mm | H9: 22.4mm | I9: 16mm | J9: 11.2mm | K9: 8mm
B10: Client Reference: | C10: SOCOTEC Ref: | D10: Matrix | E10: − | F10: -5.5 | G10: -5 | H10: -4.5 | I10: -4 | J10: -3.5 | K10: -3
A11: SS03 | C11: MAR01802.001 | D11: Sediment | E11: 5.12 | F11: 0 | G11: 0 | H11: 0 | I11: 0 | J11: 0 | K11: 0
A12: SS04 | C12: MAR01802.002 | D12: Sediment | E12: 4.87 | F12: 0 | G12: 0 | H12: 0 | I12: 0 | J12: 0 | K12: 0
A13: SS05 | C13: MAR01802.003 | D13: Sediment | E13: 5.49 | F13: 0 | G13: 0 | H13: 0 | I13: 0 | J13: 0 | K13: 0
A14: SS06 | C14: MAR01802.004 | D14: Sediment | E14: 7.27 | F14: 0 | G14: 0 | H14: 0 | I14: 0 | J14: 0 | K14: 0
D15: Units | E15: % (at 0.5phi intervals) | F15: % (at 0.5phi intervals) | G15: % (at 0.5phi intervals) | H15: % (at 0.5phi intervals) | I15: % (at 0.5phi intervals) | J15: % (at 0.5phi intervals) | K15: % (at 0.5phi intervals)
D16: Method No | E16: *SUB_01 | F16: *SUB_01 | G16: *SUB_01 | H16: *SUB_01 | I16: *SUB_01 | J16: *SUB_01 | K16: *SUB_01
D17: Accreditation | E17: MMO | F17: MMO | G17: MMO | H17: MMO | I17: MMO | J17: MMO | K17: MMO
E18: 5.6mm | F18: 4mm | G18: 2.8mm | H18: 2mm | I18: 1.4mm | J18: 1mm | K18: 707μm
B19: Client Reference: | C19: SOCOTEC Ref: | D19: Matrix | E19: -2.5 | F19: -2 | G19: -1.5 | H19: -1 | I19: -0.5 | J19: 0 | K19: 0.5
A20: SS03 | C20: MAR01802.001 | D20: Sediment | E20: 0 | F20: 0 | G20: 0 | H20: 0 | I20: 0 | J20: 0 | K20: 0
A21: SS04 | C21: MAR01802.002 | D21: Sediment | E21: 0 | F21: 0 | G21: 0 | H21: 0 | I21: 0 | J21: 0 | K21: 0
A22: SS05 | C22: MAR01802.003 | D22: Sediment | E22: 0 | F22: 0 | G22: 0 | H22: 0 | I22: 0 | J22: 0 | K22: 0
A23: SS06 | C23: MAR01802.004 | D23: Sediment | E23: 0 | F23: 0 | G23: 0 | H23: 0 | I23: 0 | J23: 0 | K23: 0
D24: Units | E24: % (at 0.5phi intervals) | F24: % (at 0.5phi intervals) | G24: % (at 0.5phi intervals) | H24: % (at 0.5phi intervals) | I24: % (at 0.5phi intervals) | J24: % (at 0.5phi intervals) | K24: % (at 0.5phi intervals)
D25: Method No | E25: *SUB_01 | F25: *SUB_01 | G25: *SUB_01 | H25: *SUB_01 | I25: *SUB_01 | J25: *SUB_01 | K25: *SUB_01
D26: Accreditation | E26: MMO | F26: MMO | G26: MMO | H26: MMO | I26: MMO | J26: MMO | K26: MMO
E27: 500μm | F27: 353.6μm | G27: 250μm | H27: 176.8μm | I27: 125μm | J27: 88.39μm | K27: 63μm
B28: Client Reference: | C28: SOCOTEC Ref: | D28: Matrix | E28: 1 | F28: 1.5 | G28: 2 | H28: 2.5 | I28: 3 | J28: 3.5 | K28: 4
A29: SS03 | C29: MAR01802.001 | D29: Sediment | E29: 0 | F29: 0 | G29: 0.61 | H29: 5.07 | I29: 4.07 | J29: 0.26 | K29: 1.49
A30: SS04 | C30: MAR01802.002 | D30: Sediment | E30: 0 | F30: 0 | G30: 0.02 | H30: 1.13 | I30: 1.46 | J30: 0.15 | K30: 2.76
A31: SS05 | C31: MAR01802.003 | D31: Sediment | E31: 0 | F31: 0 | G31: 0 | H31: 0.32 | I31: 2.99 | J31: 0.61 | K31: 1.66
A32: SS06 | C32: MAR01802.004 | D32: Sediment | E32: 0 | F32: 0 | G32: 0 | H32: 0.08 | I32: 0.39 | J32: 0.09 | K32: 2.23
D33: Units | E33: % (at 0.5phi intervals) | F33: % (at 0.5phi intervals) | G33: % (at 0.5phi intervals) | H33: % (at 0.5phi intervals) | I33: % (at 0.5phi intervals) | J33: % (at 0.5phi intervals) | K33: % (at 0.5phi intervals)
D34: Method No | E34: *SUB_01 | F34: *SUB_01 | G34: *SUB_01 | H34: *SUB_01 | I34: *SUB_01 | J34: *SUB_01 | K34: *SUB_01
D35: Accreditation | E35: MMO | F35: MMO | G35: MMO | H35: MMO | I35: MMO | J35: MMO | K35: MMO
E36: 44.2μm | F36: 31.3μm | G36: 22.1μm | H36: 15.6μm | I36: 11μm | J36: 7.8μm | K36: 5.5μm
B37: Client Reference: | C37: SOCOTEC Ref: | D37: Matrix | E37: 4.5 | F37: 5 | G37: 5.5 | H37: 6 | I37: 6.5 | J37: 7 | K37: 7.5
A38: SS03 | C38: MAR01802.001 | D38: Sediment | E38: 5.41 | F38: 8.06 | G38: 8.97 | H38: 9.17 | I38: 10.48 | J38: 11.3 | K38: 10.55
A39: SS04 | C39: MAR01802.002 | D39: Sediment | E39: 6.4 | F39: 8.14 | G39: 9.2 | H39: 9.63 | I39: 9.82 | J39: 10.51 | K39: 10.91
A40: SS05 | C40: MAR01802.003 | D40: Sediment | E40: 6.16 | F40: 9.17 | G40: 9.57 | H40: 9.25 | I40: 9.51 | J40: 10.58 | K40: 10.6
A41: SS06 | C41: MAR01802.004 | D41: Sediment | E41: 5.77 | F41: 8.03 | G41: 8.78 | H41: 9.28 | I41: 9.45 | J41: 10.51 | K41: 11.43
D42: Units | E42: % (at 0.5phi intervals) | F42: % (at 0.5phi intervals) | G42: % (at 0.5phi intervals) | H42: % (at 0.5phi intervals) | I42: % (at 0.5phi intervals) | J42: % (at 0.5phi intervals) | K42: % (at 0.5phi intervals)
D43: Method No | E43: *SUB_01 | F43: *SUB_01 | G43: *SUB_01 | H43: *SUB_01 | I43: *SUB_01 | J43: *SUB_01 | K43: *SUB_01
D44: Accreditation | E44: MMO | F44: MMO | G44: MMO | H44: MMO | I44: MMO | J44: MMO | K44: MMO
...

Sheet Metals
A1: Metals
E2: Units | I2: mg/Kg (Dry Weight)
E3: Method No | I3: ICPMSS*
E4: Limit of Detection | F4: 0.5 | G4: 0.04 | H4: 0.5 | I4: 0.5 | J4: 0.01 | K4: 0.5 | L4: 0.5 | M4: 2
E5: Accreditation | F5: UKAS/MMO | G5: UKAS/MMO | H5: UKAS/MMO | I5: UKAS/MMO | J5: UKAS/MMO UKAS/MMO | K5: UKAS/MMO | L5: UKAS/MMO | M5: UKAS/MMO
F6: Arsenic (As) | G6: Cadmium (Cd) | H6: Chromium (Cr) | I6: Copper (Cu) | J6: Mercury (Hg) | K6: Nickel (Ni) | L6: Lead (Pb) | M6: Zinc (Zn)
E7: Action level 1: | F7: 20 | G7: 0.4 | H7: 40 | I7: 40 | J7: 0.3 | K7: 20 | L7: 50 | M7: 130
E8: Action level 2: | F8: 100 | G8: 5 | H8: 400 | I8: 400 | J8: 3 | K8: 200 | L8: 500 | M8: 800
E9: QC Blank | F9: <0.5 | G9: <0.04 | H9: <0.5 | I9: <0.5 | J9: <0.01 | K9: <0.5 | L9: <0.5 | M9: <2
A10: Pre-Dredge – Surface Scrape
C11: Client Reference: | D11: SOCOTEC Ref: | E11: Matrix | F11: =F$6 -> Arsenic (As) | G11: =G$6 -> Cadmium (Cd) | H11: =H$6 -> Chromium (Cr) | I11: =I$6 -> Copper (Cu) | J11: =J$6 -> Mercury (Hg) | K11: =K$6 -> Nickel (Ni) | L11: =L$6 -> Lead (Pb) | M11: =M$6 -> Zinc (Zn)
B12: SS01 | D12: MAR01534.001 | E12: Sediment | F12: 27.1 | G12: 0.36 | H12: 47 | I12: 47.2 | J12: 0.34 | K12: 20.7 | L12: 286 | M12: 206
B13: SS02 | D13: MAR01534.002 | E13: Sediment | F13: 32.9 | G13: 0.39 | H13: 49.3 | I13: 52.7 | J13: 0.46 | K13: 29.7 | L13: 151 | M13: 248
B14: SS03 | D14: MAR01534.003 | E14: Sediment | F14: 25.2 | G14: 0.42 | H14: 58.1 | I14: 65.9 | J14: 0.6 | K14: 30.9 | L14: 151 | M14: 249
B15: SS04 | D15: MAR01534.004 | E15: Sediment | F15: 31 | G15: 0.46 | H15: 51.9 | I15: 57.4 | J15: 0.52 | K15: 29.3 | L15: 139 | M15: 235
B16: SS05 | D16: MAR01534.005 | E16: Sediment | F16: 29.7 | G16: 0.42 | H16: 51.1 | I16: 54.7 | J16: 0.48 | K16: 29.1 | L16: 136 | M16: 226
B17: SS06 | D17: MAR01534.006 | E17: Sediment | F17: 25.4 | G17: 0.24 | H17: 51.2 | I17: 53.6 | J17: 0.45 | K17: 30.7 | L17: 130 | M17: 212
D18: Certified Reference Material SETOC 774 (% Recovery) | F18: 98 | G18: 92 | H18: 99 | I18: 99 | J18: 102 | K18: 100 | L18: 97 | M18: 97
A20: Post-Dredge – Surface Scrape
C21: Client Reference: | D21: SOCOTEC Ref: | E21: Matrix | F21: =F$6 -> Arsenic (As) | G21: =G$6 -> Cadmium (Cd) | H21: =H$6 -> Chromium (Cr) | I21: =I$6 -> Copper (Cu) | J21: =J$6 -> Mercury (Hg) | K21: =K$6 -> Nickel (Ni) | L21: =L$6 -> Lead (Pb) | M21: =M$6 -> Zinc (Zn)
B22: SS01 | D22: MAR01640.001 | E22: Sediment | F22: 37 | G22: 3.32 | H22: 139 | I22: 132 | J22: 2.44 | K22: 33.4 | L22: 514 | M22: 967
B23: SS02 | D23: MAR01640.002 | E23: Sediment | F23: 29.3 | G23: 3.2 | H23: 144 | I23: 139 | J23: 2.28 | K23: 30.1 | L23: 363 | M23: 810
B24: SS03 | D24: MAR01640.003 | E24: Sediment | F24: 34.6 | G24: 3.32 | H24: 143 | I24: 130 | J24: 2.33 | K24: 33 | L24: 454 | M24: 883
B25: SS04 | D25: MAR01640.004 | E25: Sediment | F25: 29.9 | G25: 2.49 | H25: 114 | I25: 119 | J25: 1.72 | K25: 32.5 | L25: 297 | M25: 654
B26: SS05 | D26: MAR01640.005 | E26: Sediment | F26: 30.4 | G26: 1.96 | H26: 100 | I26: 104 | J26: 1.36 | K26: 35.6 | L26: 250 | M26: 519
B27: SS06 | D27: MAR01640.006 | E27: Sediment | F27: 22.1 | G27: 1.31 | H27: 65.3 | I27: 66.6 | J27: 0.99 | K27: 20.9 | L27: 228 | M27: 395
D28: Certified Reference Material SETOC 774 (% Recovery) | F28: 100 | G28: 100 | H28: 101 | I28: 98 | J28: 101 | K28: 102 | L28: 99 | M28: 96
A30: Post-Remedial-Dredge Surface Scrape
C31: Client Reference: | D31: SOCOTEC Ref: | E31: Matrix | F31: =F$6 -> Arsenic (As) | G31: =G$6 -> Cadmium (Cd) | H31: =H$6 -> Chromium (Cr) | I31: =I$6 -> Copper (Cu) | J31: =J$6 -> Mercury (Hg) | K31: =K$6 -> Nickel (Ni) | L31: =L$6 -> Lead (Pb) | M31: =M$6 -> Zinc (Zn)
B32: SS03 | D32: MAR01802.001 | E32: Sediment | F32: 25.6 | G32: 0.53 | H32: 75.9 | I32: 90 | J32: 0.83 | K32: 32.9 | L32: 171 | M32: 309
B33: SS04 | D33: MAR01802.002 | E33: Sediment | F33: 30.8 | G33: 0.73 | H33: 71.5 | I33: 73.7 | J33: 0.68 | K33: 38 | L33: 195 | M33: 335
B34: SS05 | D34: MAR01802.003 | E34: Sediment | F34: 26.9 | G34: 0.57 | H34: 69.1 | I34: 74.1 | J34: 0.65 | K34: 36.4 | L34: 177 | M34: 287
B35: SS06 | D35: MAR01802.004 | E35: Sediment | F35: 26.5 | G35: 0.38 | H35: 64.9 | I35: 67.3 | J35: 0.59 | K35: 36.3 | L35: 152 | M35: 237
D36: Certified Reference Material SETOC 768 (% Recovery) | F36: 100 | G36: 77 | H36: 98 | I36: 100 | J36: 93 | K36: 99 | L36: 92 | M36: 103
A38: BH-34 – Borehole in Exclusion Area
F39: =F$6 -> Arsenic (As) | G39: =G$6 -> Cadmium (Cd) | H39: =H$6 -> Chromium (Cr) | I39: =I$6 -> Copper (Cu) | J39: =J$6 -> Mercury (Hg) | K39: =K$6 -> Nickel (Ni) | L39: =L$6 -> Lead (Pb) | M39: =M$6 -> Zinc (Zn)
D40: MAR00856.003 | E40: BH-34 / ES203 / 0.00m-0.50m | F40: 27.9 | G40: 2.68 | H40: 144 | I40: 188 | J40: 1.56 | K40: 36.8 | L40: 311 | M40: 767
D41: MAR00856.004 | E41: BH-34 / ES204 / 1.00m-1.50m | F41: 60.4 | G41: 14.9 | H41: 492 | I41: 429 | J41: 12.8 | K41: 41.1 | L41: 828 | M41: 2835
D42: MAR00856.005 | E42: BH-34 / ES205 / 2.00m-2.50m | F42: 31.2 | G42: 3.68 | H42: 187 | I42: 218 | J42: 2.54 | K42: 38.1 | L42: 354 | M42: 972
D43: MAR00856.006 | E43: BH-34 / ES206 / 3.00m-3.50m | F43: 38.2 | G43: 6.59 | H43: 288 | I43: 284 | J43: 4.73 | K43: 39.5 | L43: 488 | M43: 1502
...

Sheet PAHs
A1: PAHs
E2: μg/Kg (Dry Weight) | F2: μg/Kg (Dry Weight) | G2: μg/Kg (Dry Weight) | H2: μg/Kg (Dry Weight) | I2: μg/Kg (Dry Weight) | J2: μg/Kg (Dry Weight) | K2: μg/Kg (Dry Weight) | L2: μg/Kg (Dry Weight) | M2: μg/Kg (Dry Weight) | N2: μg/Kg (Dry Weight) | O2: μg/Kg (Dry Weight) | P2: μg/Kg (Dry Weight) | Q2: μg/Kg (Dry Weight) | R2: μg/Kg (Dry Weight) | S2: μg/Kg (Dry Weight) | T2: μg/Kg (Dry Weight) | U2: μg/Kg (Dry Weight) | V2: μg/Kg (Dry Weight) | W2: μg/Kg (Dry Weight) | X2: μg/Kg (Dry Weight) | Y2: μg/Kg (Dry Weight) | Z2: μg/Kg (Dry Weight) | AA2: μg/Kg (Dry Weight) | AB2: mg/Kg
E3: ASC/SOP/303/304 | F3: ASC/SOP/303/304 | G3: ASC/SOP/303/304 | H3: ASC/SOP/303/304 | I3: ASC/SOP/303/304 | J3: ASC/SOP/303/304 | K3: ASC/SOP/303/304 | L3: ASC/SOP/303/304 | M3: ASC/SOP/303/304 | N3: ASC/SOP/303/304 | O3: ASC/SOP/303/304 | P3: ASC/SOP/303/304 | Q3: ASC/SOP/303/304 | R3: ASC/SOP/303/304 | S3: ASC/SOP/303/304 | T3: ASC/SOP/303/304 | U3: ASC/SOP/303/304 | V3: ASC/SOP/303/304 | W3: ASC/SOP/303/304 | X3: ASC/SOP/303/304 | Y3: ASC/SOP/303/304 | Z3: ASC/SOP/303/304 | AA3: ASC/SOP/303/304 | AB3: ASC/SOP/305
E4: Limit of Detection | F4: 1 | G4: 1 | H4: 1 | I4: 1 | J4: 1 | K4: 1 | L4: 1 | M4: 1 | N4: 1 | O4: 1 | P4: 1 | Q4: 1 | R4: 1 | S4: 1 | T4: 1 | U4: 1 | V4: 1 | W4: 1 | X4: 1 | Y4: 1 | Z4: 1 | AA4: 1 | AB4: 1
E5: UKAS/MMO | F5: UKAS/MMO | G5: UKAS/MMO | H5: UKAS/MMO | I5: UKAS/MMO | J5: UKAS/MMO | K5: UKAS/MMO | L5: UKAS/MMO | M5: UKAS/MMO | N5: UKAS/MMO | O5: MMO | P5: MMO | Q5: MMO | R5: MMO | S5: MMO | T5: UKAS/MMO | U5: UKAS/MMO | V5: UKAS/MMO | W5: UKAS/MMO | X5: UKAS/MMO | Y5: MMO | Z5: UKAS/MMO | AA5: UKAS/MMO | AB5: MMO
E6: ACENAPTH | F6: ACENAPTH | G6: ACENAPHY | H6: ANTHRACN | I6: BAA | J6: BAP | K6: BBF | L6: BENZGHIP | M6: BEP | N6: BKF* | O6: C1N | P6: C1PHEN | Q6: C2N | R6: C3N | S6: CHRYSENE* | T6: DBENZAH | U6: FLUORANT | V6: FLUORENE | W6: INDPYR | X6: NAPTH | Y6: PERYLENE | Z6: PHENANT | AA6: PYRENE | AB6: THC
E7: Action level 1: | F7: 100 | G7: 100 | H7: 100 | I7: 100 | J7: 100 | K7: 100 | L7: 100 | M7: 100 | N7: 100 | O7: 100 | P7: 100 | Q7: 100 | R7: 100 | S7: 100 | T7: 10 | U7: 100 | V7: 100 | W7: 100 | X7: 100 | Y7: 100 | Z7: 100 | AA7: 100 | AB7: 20
E8: Action level 2: | F8: =F7*5 -> 500 | G8: =G7*5 -> 500 | H8: =H7*5 -> 500 | I8: =I7*5 -> 500 | J8: =J7*5 -> 500 | K8: =K7*5 -> 500 | L8: =L7*5 -> 500 | M8: =M7*5 -> 500 | ... AB8: =AB7*5 -> 100
E9: QC Blank | F9: <1 | G9: <1 | H9: <1 | I9: <1 | J9: <1 | K9: <1 | L9: <1 | M9: <1 | N9: <1 | O9: <1 | P9: <1 | Q9: <1 | R9: <1 | S9: <1 | T9: <1 | U9: <1 | V9: <1 | W9: <1 | X9: <1 | Y9: <1 | Z9: <1 | AA9: <1 | AB9: <1
A10: Pre-Dredge – Surface Scrape
C11: Client Reference: | D11: SOCOTEC Ref: | E11: Matrix | F11: =F$6 -> ACENAPTH | G11: =G$6 -> ACENAPHY | H11: =H$6 -> ANTHRACN | I11: =I$6 -> BAA | J11: =J$6 -> BAP | K11: =K$6 -> BBF | L11: =L$6 -> BENZGHIP | M11: =M$6 -> BEP | ... AB11: =AB$6 -> THC
B12: SS01 | D12: MAR01534.001 | E12: Sediment | F12: 538 | G12: 277 | H12: 420 | I12: 787 | J12: 881 | K12: 813 | L12: 644 | M12: 649 | N12: 730 | O12: 2730 | P12: 1370 | Q12: 2270 | R12: 1760 | S12: 883 | T12: 148 | U12: 1650 | V12: 512 | W12: 617 | X12: 1120 | Y12: 212 | Z12: 1570 | AA12: 1490 | AB12: 118
B13: SS02 | D13: MAR01534.002 | E13: Sediment | F13: 654 | G13: 307 | H13: 464 | I13: 1030 | J13: 1160 | K13: 1080 | L13: 920 | M13: 864 | N13: 902 | O13: 4590 | P13: 2170 | Q13: 3640 | R13: 3060 | S13: 1130 | T13: 202 | U13: 1950 | V13: 720 | W13: 822 | X13: 1750 | Y13: 274 | Z13: 2060 | AA13: 1830 | AB13: 126
B14: SS03 | D14: MAR01534.003 | E14: Sediment | F14: 577 | G14: 359 | H14: 569 | I14: 922 | J14: 1090 | K14: 1020 | L14: 877 | M14: 838 | N14: 844 | O14: 4950 | P14: 2190 | Q14: 3770 | R14: 3190 | S14: 1020 | T14: 195 | U14: 1600 | V14: 715 | W14: 772 | X14: 1880 | Y14: 274 | Z14: 1940 | AA14: 1730 | AB14: 120
B15: SS04 | D15: MAR01534.004 | E15: Sediment | F15: 655 | G15: 325 | H15: 510 | I15: 975 | J15: 1110 | K15: 1030 | L15: 927 | M15: 872 | N15: 867 | O15: 5460 | P15: 2530 | Q15: 4290 | R15: 3600 | S15: 1090 | T15: 204 | U15: 1830 | V15: 757 | W15: 783 | X15: 2060 | Y15: 257 | Z15: 2220 | AA15: 1820 | AB15: 100
B16: SS05 | D16: MAR01534.005 | E16: Sediment | F16: 432 | G16: 184 | H16: 302 | I16: 703 | J16: 773 | K16: 742 | L16: 653 | M16: 612 | N16: 614 | O16: 3680 | P16: 1670 | Q16: 2940 | R16: 2440 | S16: 798 | T16: 147 | U16: 1320 | V16: 499 | W16: 559 | X16: 1380 | Y16: 187 | Z16: 1510 | AA16: 1270 | AB16: 84.5
B17: SS06 | D17: MAR01534.006 | E17: Sediment | F17: 413 | G17: 215 | H17: 355 | I17: 733 | J17: 831 | K17: 786 | L17: 709 | M17: 657 | N17: 650 | O17: 4090 | P17: 1890 | Q17: 3270 | R17: 2850 | S17: 827 | T17: 153 | U17: 1390 | V17: 514 | W17: 540 | X17: 1460 | Y17: 199 | Z17: 1660 | AA17: 1350 | AB17: 123
D18: Certified Reference Material SETOC 774 (% Recovery) | F18: 84 | G18: 98 | H18: 94 | I18: 84 | J18: 89 | K18: 74 | L18: 88 | M18: 79 | N18: 78 | O18: 100 | P18: 61 | Q18: 95 | R18: 88 | S18: 82 | T18: 92 | U18: 91 | V18: 88 | W18: 90 | X18: 95 | Y18: 94 | Z18: 87 | AA18: 92 | AB18: 110~
A20: Post-Dredge – Surface Scrape
C21: Client Reference: | D21: SOCOTEC Ref: | E21: Matrix | F21: =F$6 -> ACENAPTH | G21: =G$6 -> ACENAPHY | H21: =H$6 -> ANTHRACN | I21: =I$6 -> BAA | J21: =J$6 -> BAP | K21: =K$6 -> BBF | L21: =L$6 -> BENZGHIP | M21: =M$6 -> BEP | ... AB21: =AB$6 -> THC
B22: SS01 | D22: MAR01640.001 | E22: Sediment | F22: 3540 | G22: 1190 | H22: 2870 | I22: 4260 | J22: 4390 | K22: 3970 | L22: 2890 | M22: 2980 | N22: 3720 | O22: 5350 | P22: 3840 | Q22: 4460 | R22: 3550 | S22: 4300 | T22: 548 | U22: 9880 | V22: 2930 | W22: 2800 | X22: 4350 | Y22: 1070 | Z22: 6150 | AA22: 8920 | AB22: 1073
B23: SS02 | D23: MAR01640.002 | E23: Sediment | F23: 4970 | G23: 1210 | H23: 1890 | I23: 2180 | J23: 2350 | K23: 2050 | L23: 1550 | M23: 1590 | N23: 1900 | O23: 6990 | P23: 3430 | Q23: 5220 | R23: 3980 | S23: 2360 | T23: 270 | U23: 5160 | V23: 3890 | W23: 1410 | X23: 4400 | Y23: 604 | Z23: 4980 | AA23: 4780 | AB23: 865
B24: SS03 | D24: MAR01640.003 | E24: Sediment | F24: 4820 | G24: 1210 | H24: 2280 | I24: 3100 | J24: 3120 | K24: 2890 | L24: 2050 | M24: 2140 | N24: 2460 | O24: 7290 | P24: 4220 | Q24: 5540 | R24: 4490 | S24: 3240 | T24: 423 | U24: 7250 | V24: 3890 | W24: 1890 | X24: 4770 | Y24: 777 | Z24: 5930 | AA24: 6710 | AB24: 1111
B25: SS04 | D25: MAR01640.004 | E25: Sediment | F25: 2280 | G25: 723 | H25: 1120 | I25: 1840 | J25: 2100 | K25: 1850 | L25: 1430 | M25: 1490 | N25: 1710 | O25: 5860 | P25: 3060 | Q25: 4440 | R25: 3820 | S25: 2060 | T25: 285 | U25: 4200 | V25: 2170 | W25: 1290 | X25: 3080 | Y25: 535 | Z25: 3990 | AA25: 4050 | AB25: 688
B26: SS05 | D26: MAR01640.005 | E26: Sediment | F26: 1120 | G26: 373 | H26: 646 | I26: 980 | J26: 1110 | K26: 986 | L26: 848 | M26: 865 | N26: 908 | O26: 4590 | P26: 2240 | Q26: 3540 | R26: 2840 | S26: 1110 | T26: 145 | U26: 2080 | V26: 1020 | W26: 669 | X26: 1830 | Y26: 248 | Z26: 2250 | AA26: 2040 | AB26: 263
B27: SS06 | D27: MAR01640.006 | E27: Sediment | F27: 2850 | G27: 815 | H27: 1460 | I27: 1680 | J27: 1690 | K27: 1560 | L27: 1160 | M27: 1200 | N27: 1390 | O27: 5100 | P27: 2670 | Q27: 3760 | R27: 3000 | S27: 1860 | T27: 222 | U27: 4160 | V27: 2300 | W27: 1030 | X27: 3530 | Y27: 449 | Z27: 3820 | AA27: 3770 | AB27: 708
D28: Certified Reference Material SETOC 774 (% Recovery) | F28: 85 | G28: 96 | H28: 80 | I28: 90 | J28: 87 | K28: 89 | L28: 106 | M28: 87 | N28: 83 | O28: 113 | P28: 62 | Q28: 102 | R28: 82 | S28: 87 | T28: 90 | U28: 92 | V28: 97 | W28: 94 | X28: 96 | Y28: 109 | Z28: 97 | AA28: 93 | AB28: 97
A30: Post-Remedial-Dredge Surface Scrape
C31: Client Reference: | D31: SOCOTEC Ref: | E31: Matrix | F31: =F$6 -> ACENAPTH | G31: =G$6 -> ACENAPHY | H31: =H$6 -> ANTHRACN | I31: =I$6 -> BAA | J31: =J$6 -> BAP | K31: =K$6 -> BBF | L31: =L$6 -> BENZGHIP | M31: =M$6 -> BEP | ... AB31: =AB$6 -> THC
B32: SS03 | D32: MAR01802.001 | E32: Sediment | F32: 1740 | G32: 465 | H32: 664 | I32: 1100 | J32: 1380 | K32: 1340 | L32: 1070 | M32: 1000 | N32: 1080 | O32: 4450 | P32: 2190 | Q32: 3670 | R32: 3300 | S32: 1200 | T32: 210 | U32: 1830 | V32: 1260 | W32: 995 | X32: 1980 | Y32: 341 | Z32: 2110 | AA32: 2340 | AB32: 43.5
B33: SS04 | D33: MAR01802.002 | E33: Sediment | F33: 486 | G33: 230 | H33: 372 | I33: 744 | J33: 852 | K33: 862 | L33: 739 | M33: 667 | N33: 687 | O33: 3320 | P33: 1610 | Q33: 2730 | R33: 2410 | S33: 829 | T33: 148 | U33: 1370 | V33: 555 | W33: 660 | X33: 1360 | Y33: 263 | Z33: 1500 | AA33: 1400 | AB33: 26.5
B34: SS05 | D34: MAR01802.003 | E34: Sediment | F34: 765 | G34: 254 | H34: 355 | I34: 760 | J34: 875 | K34: 847 | L34: 701 | M34: 651 | N34: 711 | O34: 2910 | P34: 1490 | Q34: 2440 | R34: 2140 | S34: 792 | T34: 140 | U34: 1410 | V34: 610 | W34: 661 | X34: 1150 | Y34: 211 | Z34: 1410 | AA34: 1550 | AB34: 40.2
B35: SS06 | D35: MAR01802.004 | E35: Sediment | F35: 433 | G35: 600 | H35: 497 | I35: 794 | J35: 839 | K35: 846 | L35: 709 | M35: 639 | N35: 633 | O35: 3340 | P35: 1830 | Q35: 2610 | R35: 2160 | S35: 807 | T35: 142 | U35: 1340 | V35: 650 | W35: 631 | X35: 1090 | Y35: 198 | Z35: 1580 | AA35: 1450 | AB35: 39.9
D36: Certified Reference Material SETOC 768 (% Recovery) | F36: 85 | G36: 93 | H36: 66 | I36: 68 | J36: 63 | K36: 86 | L36: 81 | M36: 83 | N36: 84 | O36: 71 | P36: 83 | Q36: 111 | R36: 108 | S36: 88 | T36: 101 | U36: 80 | V36: 50 | W36: 79 | X36: 60 | Y36: 55 | Z36: 77 | AA36: 70 | AB36: 88~
A38: BH-34 – Borehole in Exclusion Area
F39: =F$6 -> ACENAPTH | G39: =G$6 -> ACENAPHY | H39: =H$6 -> ANTHRACN | I39: =I$6 -> BAA | J39: =J$6 -> BAP | K39: =K$6 -> BBF | L39: =L$6 -> BENZGHIP | M39: =M$6 -> BEP | ... AB39: =AB$6 -> THC
D40: MAR00856.003 | E40: BH-34 / ES203 / 0.00m-0.50m | F40: 3190 | G40: 1310 | H40: 1590 | I40: 2410 | J40: 2730 | K40: 2460 | L40: 1880 | M40: 2140 | N40: 849 | O40: 7540 | P40: 3400 | Q40: 6110 | R40: 4910 | S40: 2060 | T40: 437 | U40: 3730 | V40: 2510 | W40: 1820 | X40: 3840 | Y40: 815 | Z40: 3700 | AA40: 4580 | AB40: 787
D41: MAR00856.004 | E41: BH-34 / ES204 / 1.00m-1.50m | F41: 58200 | G41: 4590 | H41: 7910 | I41: 4760 | J41: 3580 | K41: 3160 | L41: 2230 | M41: 2770 | N41: 1200 | O41: 47600 | P41: 10900 | Q41: 30500 | R41: 16300 | S41: 4420 | T41: 513 | U41: 12300 | V41: 39400 | W41: 2020 | X41: 28400 | Y41: 943 | Z41: 24900 | AA41: 10900 | AB41: 499
D42: MAR00856.005 | E42: BH-34 / ES205 / 2.00m-2.50m | F42: 6210 | G42: 1550 | H42: 1710 | I42: 2130 | J42: 2500 | K42: 2560 | L42: 1750 | M42: 1960 | N42: 987 | O42: 9310 | P42: 3490 | Q42: 6890 | R42: 5030 | S42: 2070 | T42: 411 | U42: 3770 | V42: 4130 | W42: 1670 | X42: 6340 | Y42: 717 | Z42: 4500 | AA42: 4850 | AB42: 384
D43: MAR00856.006 | E43: BH-34 / ES206 / 3.00m-3.50m | F43: 13900 | G43: 2670 | H43: 3030 | I43: 3100 | J43: 3160 | K43: 2940 | L43: 2050 | M43: 2390 | N43: 928 | O43: 13000 | P43: 4960 | Q43: 9650 | R43: 6920 | S43: 2830 | T43: 499 | U43: 6600 | V43: 9160 | W43: 2040 | X43: 8280 | Y43: 880 | Z43: 7520 | AA43: 6680 | AB43: 720
...

Sheet PCBs
A1: PCBs
F2: mg/Kg (Dry Weight) | G2: mg/Kg (Dry Weight) | H2: mg/Kg (Dry Weight) | I2: mg/Kg (Dry Weight) | J2: mg/Kg (Dry Weight) | K2: mg/Kg (Dry Weight) | L2: mg/Kg (Dry Weight) | M2: mg/Kg (Dry Weight) | N2: mg/Kg (Dry Weight) | O2: mg/Kg (Dry Weight) | P2: mg/Kg (Dry Weight) | Q2: mg/Kg (Dry Weight) | R2: mg/Kg (Dry Weight) | S2: mg/Kg (Dry Weight) | T2: mg/Kg (Dry Weight) | U2: mg/Kg (Dry Weight) | V2: mg/Kg (Dry Weight) | W2: mg/Kg (Dry Weight) | X2: mg/Kg (Dry Weight) | Y2: mg/Kg (Dry Weight) | Z2: mg/Kg (Dry Weight) | AA2: mg/Kg (Dry Weight) | AB2: mg/Kg (Dry Weight) | AC2: mg/Kg (Dry Weight) | AD2: mg/Kg (Dry Weight)
F3: ASC/SOP/302 | G3: ASC/SOP/302 | H3: ASC/SOP/302 | I3: ASC/SOP/302 | J3: ASC/SOP/302 | K3: ASC/SOP/302 | L3: ASC/SOP/302 | M3: ASC/SOP/302 | N3: ASC/SOP/302 | O3: ASC/SOP/302 | P3: ASC/SOP/302 | Q3: ASC/SOP/302 | R3: ASC/SOP/302 | S3: ASC/SOP/302 | T3: ASC/SOP/302 | U3: ASC/SOP/302 | V3: ASC/SOP/302 | W3: ASC/SOP/302 | X3: ASC/SOP/302 | Y3: ASC/SOP/302 | Z3: ASC/SOP/302 | AA3: ASC/SOP/302 | AB3: ASC/SOP/302 | AC3: ASC/SOP/302 | AD3: ASC/SOP/302
E4: Limit of Detection | F4: <0.00008 | G4: <0.00008 | H4: <0.00008 | I4: <0.00008 | J4: <0.00008 | K4: <0.00008 | L4: <0.00008 | M4: <0.00008 | N4: <0.00008 | O4: <0.00008 | P4: <0.00008 | Q4: <0.00008 | R4: <0.00008 | S4: <0.00008 | T4: <0.00008 | U4: <0.00008 | V4: <0.00008 | W4: <0.00008 | X4: <0.00008 | Y4: <0.00008 | Z4: <0.00008 | AA4: <0.00008 | AB4: <0.00008
F5: UKAS/MMO | G5: UKAS/MMO | H5: UKAS/MMO | I5: UKAS/MMO | J5: UKAS/MMO | K5: UKAS/MMO | L5: UKAS/MMO | M5: UKAS/MMO | N5: UKAS/MMO | O5: UKAS/MMO | P5: UKAS/MMO | Q5: UKAS/MMO | R5: UKAS/MMO | S5: UKAS/MMO | T5: UKAS/MMO | U5: UKAS/MMO | V5: UKAS/MMO | W5: MMO* | X5: UKAS/MMO | Y5: UKAS/MMO | Z5: UKAS/MMO | AA5: UKAS/MMO | AB5: UKAS/MMO | AC5: UKAS/MMO | AD5: UKAS/MMO
F6: PCB 101 | G6: PCB 105 | H6: PCB 110 | I6: PCB 118 | J6: PCB 128 | K6: PCB 138 | L6: PCB 141 | M6: PCB 149 | N6: PCB 151 | O6: PCB 153 | P6: PCB 156 | Q6: PCB 158 | R6: PCB 170 | S6: PCB 18 | T6: PCB 180 | U6: PCB 183 | V6: PCB 187 | W6: PCB 194 | X6: PCB 28 | Y6: PCB 31 | Z6: PCB 44 | AA6: PCB 47 | AB6: PCB 49 | AC6: PCB 52 | AD6: PCB 66
E7: Action level 1: | F7: 0.0005 | G7: 0.0005 | H7: 0.0005 | I7: 0.0005 | J7: 0.0005 | K7: 0.0005 | L7: 0.0005 | M7: 0.0005 | N7: 0.0005 | O7: 0.0005 | P7: 0.0005 | Q7: 0.0005 | R7: 0.0005 | S7: 0.0005 | T7: 0.0005 | U7: 0.0005 | V7: 0.0005 | W7: 0.0005 | X7: 0.0005 | Y7: 0.0005 | Z7: 0.0005 | AA7: 0.0005 | AB7: 0.0005 | AC7: 0.0005 | AD7: 0.0005
E8: Action level 2: | F8: =F7*5 -> 0.0025 | G8: =G7*5 -> 0.0025 | H8: =H7*5 -> 0.0025 | I8: =I7*5 -> 0.0025 | J8: =J7*5 -> 0.0025 | K8: =K7*5 -> 0.0025 | L8: =L7*5 -> 0.0025 | M8: =M7*5 -> 0.0025 | ... AD8: =AD7*5 -> 0.0025
E9: QC Blank | F9: <0.00008 | G9: <0.00008 | H9: <0.00008 | I9: <0.00008 | J9: <0.00008 | K9: <0.00008 | L9: <0.00008 | M9: 95 | N9: <0.00008 | O9: <0.00008 | P9: <0.00008 | Q9: <0.00008 | R9: <0.00008 | S9: <0.00008 | T9: <0.00008 | U9: <0.00008 | V9: <0.00008 | W9: <0.00008 | X9: <0.00008 | Y9: <0.00008 | Z9: <0.00008 | AA9: <0.00008 | AB9: <0.00008 | AC9: <0.00008 | AD9: <0.00008
A10: Pre-Dredge – Surface Scrape
C11: Client Reference: | D11: SOCOTEC Ref: | E11: Matrix | F11: =F$6 -> PCB 101 | G11: =G$6 -> PCB 105 | H11: =H$6 -> PCB 110 | I11: =I$6 -> PCB 118 | J11: =J$6 -> PCB 128 | K11: =K$6 -> PCB 138 | L11: =L$6 -> PCB 141 | M11: =M$6 -> PCB 149 | ... AD11: =AD$6 -> PCB 66
B12: SS01 | D12: MAR01534.001 | E12: Sediment | F12: 0.00082 | G12: 0.00028 | H12: 0.00095 | I12: 0.00093 | J12: 0.00018 | K12: 0.00079 | L12: 0.0001 | M12: 0.00082 | N12: 0.00023 | O12: 0.0012 | P12: 9e-05 | Q12: 0.00012 | R12: 0.00023 | S12: 0.00023 | T12: 0.00064 | U12: 0.00013 | V12: 0.00039 | W12: 0.00016 | X12: 0.00059 | Y12: 0.00054 | Z12: 0.00038 | AA12: 0.00011 | AB12: 0.00036 | AC12: 0.00058 | AD12: 0.00056 | AF12: UKAS/MMO | AG12: UKAS/MMO | AH12: UKAS/MMO | AI12: UKAS/MMO | AJ12: UKAS/MMO | AK12: UKAS/MMO | AL12: UKAS/MMO | AM12: UKAS/MMO
B13: SS02 | D13: MAR01534.002 | E13: Sediment | F13: 0.00064 | G13: 0.00021 | H13: 0.00075 | I13: 0.00074 | J13: 0.00014 | K13: 0.00076 | L13: 9e-05 | M13: 0.00075 | N13: 0.00019 | O13: 0.00079 | P13: <0.00008 | Q13: 0.00012 | R13: 0.0002 | S13: 0.00021 | T13: 0.00049 | U13: 0.00012 | V13: 0.0003 | W13: 0.00013 | X13: 0.00049 | Y13: 0.00044 | Z13: 0.0003 | AA13: 0.00013 | AB13: 0.00032 | AC13: 0.00046 | AD13: 0.00046 | AF13: AHCH | AG13: BHCH | AH13: GHCH | AI13: DIELDRIN | AJ13: HCB | AK13: PPTDE | AL13: PPDDE | AM13: PPDDT
B14: SS03 | D14: MAR01534.003 | E14: Sediment | F14: 0.00096 | G14: 0.00028 | H14: 0.00107 | I14: 0.00109 | J14: 0.00018 | K14: 0.0008 | L14: 0.00015 | M14: 0.00096 | N14: 0.00025 | O14: 0.00099 | P14: 0.0001 | Q14: 9e-05 | R14: 0.00025 | S14: 0.00032 | T14: 0.00063 | U14: 0.0002 | V14: 0.00048 | W14: 0.0002 | X14: 0.00073 | Y14: 0.00067 | Z14: 0.00044 | AA14: 0.00017 | AB14: 0.00046 | AC14: 0.00071 | AD14: 0.00065 | AF14: <0.0001 | AG14: <0.0001 | AH14: 0.0001 | AI14: 0.0006 | AJ14: 0.0013 | AK14: 0.0014 | AL14: 0.0012 | AM14: 0.0005
B15: SS04 | D15: MAR01534.004 | E15: Sediment | F15: 0.00083 | G15: 0.00027 | H15: 0.0009 | I15: 0.00097 | J15: 0.00014 | K15: 0.00112 | L15: 0.00014 | M15: 0.0009 | N15: 0.00029 | O15: 0.00096 | P15: 0.00011 | Q15: 0.00014 | R15: 0.00022 | S15: 0.00025 | T15: 0.0006 | U15: 0.00015 | V15: 0.00045 | W15: 0.00017 | X15: 0.00059 | Y15: 0.00057 | Z15: 0.00039 | AA15: 0.00015 | AB15: 0.00038 | AC15: 0.00058 | AD15: 0.00057 | AF15: <0.0001 | AG15: <0.0001 | AH15: 0.0001 | AI15: 0.0004 | AJ15: 0.001 | AK15: 0.001 | AL15: 0.0008 | AM15: 0.0005
B16: SS05 | D16: MAR01534.005 | E16: Sediment | F16: 0.0009 | G16: 0.00024 | H16: 0.00086 | I16: 0.00088 | J16: 0.00017 | K16: 0.00096 | L16: 0.00012 | M16: 0.00081 | N16: 0.00017 | O16: 0.00095 | P16: <0.00008 | Q16: 0.00012 | R16: 0.00022 | S16: 0.00025 | T16: 0.00057 | U16: 0.00013 | V16: 0.00038 | W16: 0.00017 | X16: 0.00057 | Y16: 0.00053 | Z16: 0.00031 | AA16: 0.00011 | AB16: 0.00036 | AC16: 0.00055 | AD16: 0.00054 | AF16: <0.0001 | AG16: <0.0001 | AH16: 0.0002 | AI16: 0.0006 | AJ16: 0.0013 | AK16: 0.0016 | AL16: 0.0013 | AM16: 0.0016
B17: SS06 | D17: MAR01534.006 | E17: Sediment | F17: 0.00079 | G17: 0.00031 | H17: 0.00087 | I17: 0.00094 | J17: 0.0002 | K17: 0.00107 | L17: 0.00011 | M17: 0.00078 | N17: 0.00026 | O17: 0.00104 | P17: 0.00011 | Q17: 0.00011 | R17: 0.00024 | S17: 0.00025 | T17: 0.00059 | U17: 0.00015 | V17: 0.00042 | W17: 0.00019 | X17: 0.0006 | Y17: 0.00057 | Z17: 0.00036 | AA17: 0.00016 | AB17: 0.00036 | AC17: 0.00053 | AD17: 0.00053 | AF17: <0.0001 | AG17: <0.0001 | AH17: 0.0002 | AI17: 0.0006 | AJ17: 0.0012 | AK17: 0.0013 | AL17: 0.0012 | AM17: 0.0007
D18: Certified Reference Material Quasimeme QOR151MS (% Recovery) | F18: 101 | G18: 85 | H18: 105 | I18: 101 | J18: 89 | K18: 95 | L18: 88 | M18: 95 | N18: 111 | O18: 98 | P18: 85 | Q18: 80 | R18: 94 | S18: 89 | T18: 97 | U18: 90 | V18: 102 | W18: 87 | X18: 78 | Y18: 95 | Z18: 105 | AA18: 101 | AB18: 104 | AC18: 99 | AD18: 109~ | AF18: <0.0001 | AG18: <0.0001 | AH18: 0.0002 | AI18: 0.0002 | AJ18: 0.0012 | AK18: 0.0014 | AL18: 0.001 | AM18: 0.0002
AF19: <0.0001 | AG19: <0.0001 | AH19: 0.0002 | AI19: 0.0006 | AJ19: 0.0011 | AK19: 0.0014 | AL19: 0.0013 | AM19: 0.0002
A20: Post-Dredge – Surface Scrape | AF20: 108~ | AG20: 115~ | AH20: 111 | AI20: 88 | AJ20: 67 | AK20: 107 | AL20: 112 | AM20: 107
C21: Client Reference: | D21: SOCOTEC Ref: | E21: Matrix | F21: =F$6 -> PCB 101 | G21: =G$6 -> PCB 105 | H21: =H$6 -> PCB 110 | I21: =I$6 -> PCB 118 | J21: =J$6 -> PCB 128 | K21: =K$6 -> PCB 138 | L21: =L$6 -> PCB 141 | M21: =M$6 -> PCB 149 | ... AD21: =AD$6 -> PCB 66 | AF21: <0.0001 | AG21: <0.0001 | AH21: <0.0001 | AI21: <0.0001 <0.0001 | AJ21: <0.0001 | AK21: <0.0001 | AL21: <0.0001 | AM21: <0.0001
B22: SS01 | D22: MAR01640.001 | E22: Sediment | F22: 0.0039 | G22: 0.00103 | H22: 0.00367 | I22: 0.00348 | J22: 0.00059 | K22: 0.00356 | L22: 0.00055 | M22: 0.00305 | N22: 0.00076 | O22: 0.00412 | P22: 0.00028 | Q22: 0.00056 | R22: 0.00067 | S22: 0.00113 | T22: 0.00172 | U22: 0.00051 | V22: 0.00123 | W22: 0.00038 | X22: 0.00218 | Y22: 0.00181 | Z22: 0.00133 | AA22: 0.00055 | AB22: 0.00171 | AC22: 0.00265 | AD22: 0.0015
B23: SS02 | D23: MAR01640.002 | E23: Sediment | F23: 0.00384 | G23: 0.00116 | H23: 0.00348 | I23: 0.00363 | J23: 0.00077 | K23: 0.00359 | L23: 0.00063 | M23: 0.00313 | N23: 0.00079 | O23: 0.00392 | P23: 0.00035 | Q23: 0.00065 | R23: 0.00073 | S23: 0.00134 | T23: 0.00185 | U23: 0.00055 | V23: 0.00136 | W23: 0.00052 | X23: 0.00268 | Y23: 0.00218 | Z23: 0.00156 | AA23: 0.00056 | AB23: 0.0018 | AC23: 0.00271 | AD23: 0.00164
B24: SS03 | D24: MAR01640.003 | E24: Sediment | F24: 0.0031 | G24: 0.00083 | H24: 0.00285 | I24: 0.00275 | J24: 0.0007 | K24: 0.00313 | L24: 0.00038 | M24: 0.00256 | N24: 0.00064 | O24: 0.00317 | P24: 0.00029 | Q24: 0.00043 | R24: 0.00054 | S24: 0.00115 | T24: 0.00166 | U24: 0.00051 | V24: 0.00107 | W24: 0.00036 | X24: 0.00234 | Y24: 0.00184 | Z24: 0.00118 | AA24: 0.0014 | AB24: 0.00148 | AC24: 0.0022 | AD24: 0.00197
B25: SS04 | D25: MAR01640.004 | E25: Sediment | F25: 0.00276 | G25: 0.00084 | H25: 0.00245 | I25: 0.00244 | J25: 0.00047 | K25: 0.00265 | L25: 0.00035 | M25: 0.00225 | N25: 0.00056 | O25: 0.00257 | P25: 0.00021 | Q25: 0.00031 | R25: 0.00053 | S25: 0.00104 | T25: 0.00144 | U25: 0.00043 | V25: 0.00094 | W25: 0.00038 | X25: 0.00209 | Y25: 0.0017 | Z25: 0.00107 | AA25: 0.00042 | AB25: 0.00136 | AC25: 0.00204 | AD25: 0.00137
B26: SS05 | D26: MAR01640.005 | E26: Sediment | F26: 0.0017 | G26: 0.00052 | H26: 0.00161 | I26: 0.00161 | J26: 0.00028 | K26: 0.00184 | L26: 0.00029 | M26: 0.00142 | N26: 0.00038 | O26: 0.00216 | P26: 0.00013 | Q26: 0.00023 | R26: 0.00041 | S26: 0.00076 | T26: 0.00118 | U26: 0.00025 | V26: 0.00083 | W26: 0.00032 | X26: 0.00157 | Y26: 0.00127 | Z26: 0.00069 | AA26: 0.00027 | AB26: 0.00088 | AC26: 0.00121 | AD26: 0.00099
B27: SS06 | D27: MAR01640.006 | E27: Sediment | F27: 0.00161 | G27: 0.0005 | H27: 0.00137 | I27: 0.00138 | J27: 0.00023 | K27: 0.00148 | L27: 0.00026 | M27: 0.00126 | N27: 0.00032 | O27: 0.00139 | P27: 0.00013 | Q27: 0.00022 | R27: 0.00029 | S27: 0.0005 | T27: 0.00082 | U27: 0.0002 | V27: 0.00056 | W27: 0.00017 | X27: 0.00101 | Y27: 0.00087 | Z27: 0.00056 | AA27: 0.00023 | AB27: 0.00068 | AC27: 0.00107 | AD27: 0.00073
D28: Certified Reference Material Quasimeme QOR151MS (% Recovery) | F28: 94 | G28: 91 | H28: 93 | I28: 98 | J28: 95 | K28: 89 | L28: 103 | M28: 103 | N28: 104 | O28: 85 | P28: 83 | Q28: 118 | R28: 80 | S28: 113 | T28: 99 | U28: 110 | V28: 97 | W28: 91 | X28: 87 | Y28: 96 | Z28: 101 | AA28: 105 | AB28: 103 | AC28: 96
A30: Post-Remedial-Dredge Surface Scrape
C31: Client Reference: | D31: SOCOTEC Ref: | E31: Matrix | F31: =F$6 -> PCB 101 | G31: =G$6 -> PCB 105 | H31: =H$6 -> PCB 110 | I31: =I$6 -> PCB 118 | J31: =J$6 -> PCB 128 | K31: =K$6 -> PCB 138 | L31: =L$6 -> PCB 141 | M31: =M$6 -> PCB 149 | ... AD31: =AD$6 -> PCB 66
B32: SS03 | D32: MAR01802.001 | E32: Sediment | F32: 0.00154 | G32: 0.00057 | H32: 0.0014 | I32: 0.00175 | J32: 0.00018 | K32: 0.00147 | L32: 0.00013 | M32: 0.00101 | N32: 0.00047 | O32: 0.00159 | P32: 0.0001 | Q32: 0.00015 | R32: 0.0003 | S32: 0.00045 | T32: 0.00119 | U32: 0.00019 | V32: 0.00067 | W32: 0.00027 | X32: 0.00093 | Y32: 0.00103 | Z32: 0.00054 | AA32: 0.00028 | AB32: 0.00081 | AC32: 0.00103 | AD32: 0.00099
B33: SS04 | D33: MAR01802.002 | E33: Sediment | F33: 0.00105 | G33: 0.00036 | H33: 0.00101 | I33: 0.00122 | J33: 0.00013 | K33: 0.00081 | L33: 0.00018 | M33: 0.0007 | N33: 0.00032 | O33: 0.00116 | P33: 0.0001 | Q33: 0.00013 | R33: 0.00023 | S33: 0.00029 | T33: 0.00089 | U33: 0.00016 | V33: 0.00046 | W33: 0.00026 | X33: 0.00066 | Y33: 0.0008 | Z33: 0.00037 | AA33: 0.00019 | AB33: 0.00053 | AC33: 0.00071 | AD33: 0.0007
B34: SS05 | D34: MAR01802.003 | E34: Sediment | F34: 0.00105 | G34: 0.0003 | H34: 0.00111 | I34: 0.00118 | J34: 0.00025 | K34: 0.00111 | L34: 0.00017 | M34: 0.00068 | N34: 0.00027 | O34: 0.00119 | P34: 0.00011 | Q34: 0.00013 | R34: 0.00024 | S34: 0.00029 | T34: 0.00085 | U34: 0.00014 | V34: 0.00052 | W34: 0.00025 | X34: 0.00069 | Y34: 0.00082 | Z34: 0.00033 | AA34: 0.00021 | AB34: 0.00055 | AC34: 0.00071 | AD34: 0.00075
B35: SS06 | D35: MAR01802.004 | E35: Sediment | F35: 0.00104 | G35: 0.00047 | H35: 0.00107 | I35: 0.00134 | J35: 0.00026 | K35: 0.00105 | L35: 0.00029 | M35: 0.00077 | N35: 0.00043 | O35: 0.00113 | P35: 0.00027 | Q35: 0.00029 | R35: 0.00041 | S35: 0.00034 | T35: 0.00098 | U35: 0.00023 | V35: 0.00068 | W35: 0.00036 | X35: 0.00068 | Y35: 0.00088 | Z35: 0.00055 | AA35: 0.00032 | AB35: 0.00061 | AC35: 0.00076 | AD35: 0.00084
D36: Certified Reference Material Quasimeme QOR151MS (% Recovery) | F36: 96 | G36: 83 | H36: 101 | I36: 95 | J36: 89 | K36: 90 | M36: 75 | O36: 72 | P36: 93 | Q36: 86 | R36: 80 | S36: 70 | T36: 107 | U36: 63 | V36: 83 | W36: 96 | X36: 71 | Y36: 106 | Z36: 77 | AB36: 103 | AC36: 94 | AD36: 95
A38: BH-34 – Borehole in Exclusion Area
F39: =F$6 -> PCB 101 | G39: =G$6 -> PCB 105 | H39: =H$6 -> PCB 110 | I39: =I$6 -> PCB 118 | J39: =J$6 -> PCB 128 | K39: =K$6 -> PCB 138 | L39: =L$6 -> PCB 141 | M39: =M$6 -> PCB 149 | ... AD39: =AD$6 -> PCB 66
D40: MAR00856.003 | E40: BH-34 / ES203 / 0.00m-0.50m | F40: 0.00473 | G40: 0.00152 | H40: 0.00452 | I40: 0.00381 | J40: 0.00069 | K40: 0.00425 | L40: 0.0005 | M40: 0.00401 | N40: 0.00116 | O40: 0.00585 | P40: 0.00039 | Q40: 0.0006 | R40: 0.00101 | S40: 0.00171 | T40: 0.00292 | U40: 0.0006 | V40: 0.00146 | W40: 0.00092 | X40: 0.00283 | Y40: 0.00523 | Z40: 0.00208 | AA40: 0.00067 | AB40: 0.00236 | AC40: 0.00344 | AD40: 0.00294
D41: MAR00856.004 | E41: BH-34 / ES204 / 1.00m-1.50m | F41: 0.01255 | G41: 0.00343 | H41: 0.01211 | I41: 0.01109 | J41: 0.00233 | K41: 0.01145 | L41: 0.00125 | M41: 0.01175 | N41: 0.00326 | O41: 0.01478 | P41: 0.00082 | Q41: 0.00118 | R41: 0.00235 | S41: 0.0098 | T41: 0.00667 | U41: 0.00155 | V41: 0.00404 | W41: 0.00196 | X41: 0.0201 | Y41: 0.02322 | Z41: 0.00717 | AA41: 0.0028 | AB41: 0.00878 | AC41: 0.01096 | AD41: 0.01086
D42: MAR00856.005 | E42: BH-34 / ES205 / 2.00m-2.50m | F42: 0.00508 | G42: 0.00151 | H42: 0.00537 | I42: 0.0051 | J42: 0.00082 | K42: 0.00509 | L42: 0.00065 | M42: 0.00509 | N42: 0.00151 | O42: 0.00663 | P42: 0.00057 | Q42: 0.00067 | R42: 0.00107 | S42: 0.00202 | T42: 0.00331 | U42: 0.00086 | V42: 0.00177 | W42: 0.00096 | X42: 0.00428 | Y42: 0.00686 | Z42: 0.00207 | AA42: 0.00082 | AB42: 0.0027 | AC42: 0.00365 | AD42: 0.00314
...

Sheet OrganoChlorines
A1: OrganoChlorines
F2: mg/Kg (Dry Weight) | G2: mg/Kg (Dry Weight) | H2: mg/Kg (Dry Weight) | I2: mg/Kg (Dry Weight) | J2: mg/Kg (Dry Weight) | K2: mg/Kg (Dry Weight) | L2: mg/Kg (Dry Weight) | M2: mg/Kg (Dry Weight)
F3: ASC/SOP/302 | G3: ASC/SOP/302 | H3: ASC/SOP/302 | I3: ASC/SOP/302 | J3: ASC/SOP/302 | K3: ASC/SOP/302 | L3: ASC/SOP/302 | M3: ASC/SOP/302
E4: Limit of Detection | F4: 0.0001 | G4: 0.0001 | H4: 0.0001 | I4: 0.0001 | J4: 0.0001 | K4: 0.0001 | L4: 0.0001 | M4: 0.0001
F5: UKAS/MMO | G5: UKAS/MMO | H5: UKAS/MMO | I5: UKAS/MMO | J5: UKAS/MMO | K5: UKAS/MMO | L5: UKAS/MMO | M5: UKAS/MMO
F6: AHCH | G6: BHCH | H6: GHCH | I6: DIELDRIN | J6: HCB | K6: PPTDE | L6: PPDDE | M6: PPDDT
E7: Action level 1: | F7: 0.0005 | G7: 0.0005 | H7: 0.0005 | I7: 0.0005 | J7: 0.0005 | K7: 0.0005 | L7: 0.0005 | M7: 0.0005
E8: Action level 2: | F8: =F7*5 -> 0.0025 | G8: =G7*5 -> 0.0025 | H8: =H7*5 -> 0.0025 | I8: =I7*5 -> 0.0025 | J8: =J7*5 -> 0.0025 | K8: =K7*5 -> 0.0025 | L8: =L7*5 -> 0.0025 | M8: =M7*5 -> 0.0025
E9: QC Blank | F9: <0.00008 | G9: <0.00008 | H9: <0.00008 | I9: <0.00008 | J9: <0.00008 | K9: <0.00008 | L9: <0.00008 | M9: 95
A10: Pre-Dredge – Surface Scrape
C11: Client Reference: | D11: SOCOTEC Ref: | E11: Matrix | F11: =F$6 -> AHCH | G11: =G$6 -> BHCH | H11: =H$6 -> GHCH | I11: =I$6 -> DIELDRIN | J11: =J$6 -> HCB | K11: =K$6 -> PPTDE | L11: =L$6 -> PPDDE | M11: =M$6 -> PPDDT
B12: SS01 | D12: MAR01534.001 | E12: Sediment | F12: 0.00082 | G12: 0.00028 | H12: 0.00095 | I12: 0.00093 | J12: 0.00018 | K12: 0.00079 | L12: 0.0001 | M12: 0.00082
B13: SS02 | D13: MAR01534.002 | E13: Sediment | F13: 0.00064 | G13: 0.00021 | H13: 0.00075 | I13: 0.00074 | J13: 0.00014 | K13: 0.00076 | L13: 9e-05 | M13: 0.00075
B14: SS03 | D14: MAR01534.003 | E14: Sediment | F14: 0.00096 | G14: 0.00028 | H14: 0.00107 | I14: 0.00109 | J14: 0.00018 | K14: 0.0008 | L14: 0.00015 | M14: 0.00096
B15: SS04 | D15: MAR01534.004 | E15: Sediment | F15: 0.00083 | G15: 0.00027 | H15: 0.0009 | I15: 0.00097 | J15: 0.00014 | K15: 0.00112 | L15: 0.00014 | M15: 0.0009
B16: SS05 | D16: MAR01534.005 | E16: Sediment | F16: 0.0009 | G16: 0.00024 | H16: 0.00086 | I16: 0.00088 | J16: 0.00017 | K16: 0.00096 | L16: 0.00012 | M16: 0.00081
B17: SS06 | D17: MAR01534.006 | E17: Sediment | F17: 0.00079 | G17: 0.00031 | H17: 0.00087 | I17: 0.00094 | J17: 0.0002 | K17: 0.00107 | L17: 0.00011 | M17: 0.00078
D18: Certified Reference Material Quasimeme QOR151MS (% Recovery) | F18: 101 | G18: 85 | H18: 105 | I18: 101 | J18: 89 | K18: 95 | L18: 88 | M18: 95
A20: Post-Dredge – Surface Scrape
C21: Client Reference: | D21: SOCOTEC Ref: | E21: Matrix | F21: =F$6 -> AHCH | G21: =G$6 -> BHCH | H21: =H$6 -> GHCH | I21: =I$6 -> DIELDRIN | J21: =J$6 -> HCB | K21: =K$6 -> PPTDE | L21: =L$6 -> PPDDE | M21: =M$6 -> PPDDT
B22: SS01 | D22: MAR01640.001 | E22: Sediment | F22: 0.0001 | G22: 0.0001 | H22: 0.0002 | I22: 0.001 | J22: 0.0031 | K22: 0.0015 | L22: 0.0025 | M22: 0.0004
B23: SS02 | D23: MAR01640.002 | E23: Sediment | F23: 0.0001 | G23: 0.0001 | H23: 0.0002 | I23: 0.0007 | J23: 0.0033 | K23: 0.0014 | L23: 0.0027 | M23: 0.0008
B24: SS03 | D24: MAR01640.003 | E24: Sediment | F24: 0.0001 | G24: 0.0001 | H24: 0.0002 | I24: 0.0011 | J24: 0.0033 | K24: 0.0014 | L24: 0.0022 | M24: 0.0007
B25: SS04 | D25: MAR01640.004 | E25: Sediment | F25: 0.0001 | G25: 0.0001 | H25: 0.0002 | I25: 0.0001 | J25: 0.0028 | K25: 0.0015 | L25: 0.0021 | M25: 0.0037
B26: SS05 | D26: MAR01640.005 | E26: Sediment | F26: 0.0001 | G26: 0.0001 | H26: 0.0003 | I26: 0.0005 | J26: 0.0022 | K26: 0.0014 | L26: 0.0016 | M26: 0.0003
B27: SS06 | D27: MAR01640.006 | E27: Sediment | F27: 0.0001 | G27: 0.0001 | H27: 0.0001 | I27: 0.0003 | J27: 0.0015 | K27: 0.0008 | L27: 0.001 | M27: 0.0008
D28: Certified Reference Material Quasimeme QOR151MS (% Recovery) | F28: 93~ | G28: 69~ | H28: 84 | I28: 98 | J28: 75 | K28: 94 | L28: 90 | M28: 99
A30: Post-Remedial-Dredge Surface Scrape
C31: Client Reference: | D31: SOCOTEC Ref: | E31: Matrix | F31: =F$6 -> AHCH | G31: =G$6 -> BHCH | H31: =H$6 -> GHCH | I31: =I$6 -> DIELDRIN | J31: =J$6 -> HCB | K31: =K$6 -> PPTDE | L31: =L$6 -> PPDDE | M31: =M$6 -> PPDDT
B32: SS03 | D32: MAR01802.001 | E32: Sediment | F32: 0.0001 | G32: 0.0001 | H32: 0.0002 | I32: 0.0006 | J32: 0.0016 | K32: 0.0013 | L32: 0.0014 | M32: 0.0032
B33: SS04 | D33: MAR01802.002 | E33: Sediment | F33: 0.0001 | G33: 0.0001 | H33: 0.0001 | I33: 0.0003 | J33: 0.0015 | K33: 0.001 | L33: 0.0009 | M33: 0.0004
B34: SS05 | D34: MAR01802.003 | E34: Sediment | F34: 0.0001 | G34: 0.0001 | H34: 0.0001 | I34: 0.0005 | J34: 0.0015 | K34: 0.0012 | L34: 0.001 | M34: 0.0004
B35: SS06 | D35: MAR01802.004 | E35: Sediment | F35: 0.0001 | G35: 0.0002 | H35: 0.0001 | I35: 0.0005 | J35: 0.0021 | K35: 0.0012 | L35: 0.0011 | M35: 0.0027
D36: Certified Reference Material Quasimeme QOR151MS (% Recovery) | F36: 95~ | G36: 71~ | H36: 72~ | I36: 109~ | J36: 114 | K36: 71 | L36: 96 | M36: 66
A38: BH-34 – Borehole in Exclusion Area
F39: =F$6 -> AHCH | G39: =G$6 -> BHCH | H39: =H$6 -> GHCH | I39: =I$6 -> DIELDRIN | J39: =J$6 -> HCB | K39: =K$6 -> PPTDE | L39: =L$6 -> PPDDE | M39: =M$6 -> PPDDT
D40: MAR00856.003 | E40: BH-34 / ES203 / 0.00m-0.50m
D41: MAR00856.004 | E41: BH-34 / ES204 / 1.00m-1.50m
D42: MAR00856.005 | E42: BH-34 / ES205 / 2.00m-2.50m
D43: MAR00856.006 | E43: BH-34 / ES206 / 3.00m-3.50m
...

Sheet OrganoTins
A1: OrganoTin
F2: mg/Kg (Dry Weight) | G2: mg/Kg (Dry Weight)
F3: ASC/SOP/301 | G3: ASC/SOP/301
E4: Limit of Detection | F4: 0.001 | G4: 0.001
F5: UKAS/MMO | G5: UKAS/MMO
F6: Dibutyltin (DBT) | G6: Tributyltin (TBT)
E7: Action level 1: | F7: 0.1 | G7: 0.1
E8: Action level 2: | F8: 1 | G8: 1
E9: QC Blank | F9: 0.001 | G9: 0.001
A10: Pre-Dredge – Surface Scrape
C11: Client Reference: | D11: SOCOTEC Ref: | E11: Matrix | F11: =F$6 -> Dibutyltin (DBT) | G11: =G$6 -> Tributyltin (TBT)
B12: SS01 | D12: MAR01534.001 | E12: Sediment | F12: 0.016 | G12: 0.02
B13: SS02 | D13: MAR01534.002 | E13: Sediment | F13: 0.015 | G13: 0.033
B14: SS03 | D14: MAR01534.003 | E14: Sediment | F14: 0.031 | G14: 0.029
B15: SS04 | D15: MAR01534.004 | E15: Sediment | F15: 0.026 | G15: 0.031
B16: SS05 | D16: MAR01534.005 | E16: Sediment | F16: 0.005 | G16: 0.03
B17: SS06 | D17: MAR01534.006 | E17: Sediment | F17: 0.014 | G17: 0.025
D18: Certified Reference Material Quasimeme QOR151MS (% Recovery) | F18: 101 | G18: 86
A20: Post-Dredge – Surface Scrape
C21: Client Reference: | D21: SOCOTEC Ref: | E21: Matrix | F21: =F$6 -> Dibutyltin (DBT) | G21: =G$6 -> Tributyltin (TBT)
B22: SS01 | D22: MAR01640.001 | E22: Sediment | F22: 0.03 | G22: 0.029
B23: SS02 | D23: MAR01640.002 | E23: Sediment | F23: 0.059 | G23: 0.09
B24: SS03 | D24: MAR01640.003 | E24: Sediment | F24: 0.04 | G24: 0.054
B25: SS04 | D25: MAR01640.004 | E25: Sediment | F25: 0.037 | G25: 0.052
B26: SS05 | D26: MAR01640.005 | E26: Sediment | F26: 0.02 | G26: 0.027
B27: SS06 | D27: MAR01640.006 | E27: Sediment | F27: 0.033 | G27: 0.044
D28: Certified Reference Material Quasimeme QOR151MS (% Recovery) | F28: 81 | G28: 80
A30: Post-Remedial-Dredge Surface Scrape
C31: Client Reference: | D31: SOCOTEC Ref: | E31: Matrix | F31: =F$6 -> Dibutyltin (DBT) | G31: =G$6 -> Tributyltin (TBT)
B32: SS03 | D32: MAR01802.001 | E32: Sediment | F32: 0.027 | G32: 0.041
B33: SS04 | D33: MAR01802.002 | E33: Sediment | F33: <0.005 | G33: <0.005
B34: SS05 | D34: MAR01802.003 | E34: Sediment | F34: 0.016 | G34: 0.028
B35: SS06 | D35: MAR01802.004 | E35: Sediment | F35: <0.005 | G35: <0.005
D36: Certified Reference Material Quasimeme QOR151MS (% Recovery) | F36: 81 | G36: 88
A38: BH-34 – Borehole in Exclusion Area
F39: =F$6 -> Dibutyltin (DBT) | G39: =G$6 -> Tributyltin (TBT)
D40: MAR00856.003 | E40: BH-34 / ES203 / 0.00m-0.50m | F40: 0.047 | G40: 0.111
D41: MAR00856.004 | E41: BH-34 / ES204 / 1.00m-1.50m | F41: 0.06 | G41: 0.06
D42: MAR00856.005 | E42: BH-34 / ES205 / 2.00m-2.50m | F42: 0.013 | G42: 0.072
D43: MAR00856.006 | E43: BH-34 / ES206 / 3.00m-3.50m | F43: 0.072 | G43: 0.094
...

Sheet Reductions
B11: Metals | C11: Arsenic (As) | D11: Cadmium (Cd) | E11: Chromium (Cr) | F11: Copper (Cu) | G11: Mercury (Hg) | H11: Nickel (Ni) | I11: Lead (Pb) | J11: Zinc (Zn)
B12: SS03 | C12: =Metals!F70 -> -0.4 | D12: =Metals!G70 -> -0.11 | E12: =Metals!H70 -> -17.8 | F12: =Metals!I70 -> -24.1 | G12: =Metals!J70 -> -0.23 | H12: =Metals!K70 -> -2 | I12: =Metals!L70 -> -20 | J12: =Metals!M70 -> -60
B13: SS04 | C13: =Metals!F71 -> 0.2 | D13: =Metals!G71 -> -0.27 | E13: =Metals!H71 -> -19.6 | F13: =Metals!I71 -> -16.3 | G13: =Metals!J71 -> -0.16 | H13: =Metals!K71 -> -8.7 | I13: =Metals!L71 -> -56 | J13: =Metals!M71 -> -100
B14: SS05 | C14: =Metals!F72 -> 2.8 | D14: =Metals!G72 -> -0.15 | E14: =Metals!H72 -> -18 | F14: =Metals!I72 -> -19.4 | G14: =Metals!J72 -> -0.17 | H14: =Metals!K72 -> -7.3 | I14: =Metals!L72 -> -41 | J14: =Metals!M72 -> -61
B15: SS06 | C15: =Metals!F73 -> -1.1 | D15: =Metals!G73 -> -0.14 | E15: =Metals!H73 -> -13.7 | F15: =Metals!I73 -> -13.7 | G15: =Metals!J73 -> -0.14 | H15: =Metals!K73 -> -5.6 | I15: =Metals!L73 -> -22 | J15: =Metals!M73 -> -25
B18: PAHs | C18: ACENAPTH | D18: ACENAPHY | E18: ANTHRACN | F18: BAA | G18: BAP | H18: BBF | I18: BENZGHIP | J18: BEP | K18: BKF* | L18: C1N | M18: C1PHEN | N18: C2N | O18: C3N | P18: CHRYSENE* | Q18: DBENZAH | R18: FLUORANT | S18: FLUORENE | T18: INDPYR | U18: NAPTH | V18: PERYLENE | W18: PHENANT | X18: PYRENE | Y18: THC
B19: SS03 | C19: =PAHs!F70 -> -1163 | D19: =PAHs!G70 -> -106 | E19: =PAHs!H70 -> -95 | F19: =PAHs!I70 -> -178 | G19: =PAHs!J70 -> -290 | H19: =PAHs!K70 -> -320 | I19: =PAHs!L70 -> -193 | J19: =PAHs!M70 -> -162 | ... Y19: =PAHs!AB70 -> 76.5
B20: SS04 | C20: =PAHs!F71 -> 169 | D20: =PAHs!G71 -> 95 | E20: =PAHs!H71 -> 138 | F20: =PAHs!I71 -> 231 | G20: =PAHs!J71 -> 258 | H20: =PAHs!K71 -> 168 | I20: =PAHs!L71 -> 188 | J20: =PAHs!M71 -> 205 | ... Y20: =PAHs!AB71 -> 73.5
B21: SS05 | C21: =PAHs!F72 -> -333 | D21: =PAHs!G72 -> -70 | E21: =PAHs!H72 -> -53 | F21: =PAHs!I72 -> -57 | G21: =PAHs!J72 -> -102 | H21: =PAHs!K72 -> -105 | I21: =PAHs!L72 -> -48 | J21: =PAHs!M72 -> -39 | ... Y21: =PAHs!AB72 -> 44.3
B22: SS06 | C22: =PAHs!F73 -> -20 | D22: =PAHs!G73 -> -385 | E22: =PAHs!H73 -> -142 | F22: =PAHs!I73 -> -61 | G22: =PAHs!J73 -> -8 | H22: =PAHs!K73 -> -60 | I22: =PAHs!L73 -> 0 | J22: =PAHs!M73 -> 18 | ... Y22: =PAHs!AB73 -> 83.1
